BEGIN:VCALENDAR
VERSION:2.0
PRODID:-//CERN//INDICO//EN
BEGIN:VEVENT
SUMMARY:Nanophotonic simulations using the boundary element method
DTSTART:20260427T141500Z
DTEND:20260427T161500Z
DTSTAMP:20260424T233700Z
UID:indico-event-509@indico.tpi.uni-jena.de
DESCRIPTION:Speakers: Ulrich Hohenester (Universität Graz)\n\nhttps://ind
 ico.tpi.uni-jena.de/event/509/
LOCATION:Abbeanum/1-HS1 (TPI\, FSU Jena)
URL:https://indico.tpi.uni-jena.de/event/509/
END:VEVENT
END:VCALENDAR
