BEGIN:VCALENDAR
VERSION:2.0
PRODID:-//CERN//INDICO//EN
BEGIN:VEVENT
SUMMARY:TBA - Stefan Kehrein
DTSTART:20260507T121500Z
DTEND:20260507T134500Z
DTSTAMP:20260424T210200Z
UID:indico-event-498@indico.tpi.uni-jena.de
DESCRIPTION:https://indico.tpi.uni-jena.de/event/498/
URL:https://indico.tpi.uni-jena.de/event/498/
END:VEVENT
END:VCALENDAR
