BEGIN:VCALENDAR
VERSION:2.0
PRODID:-//CERN//INDICO//EN
BEGIN:VEVENT
SUMMARY:TBA
DTSTART:20260527T141500Z
DTEND:20260527T161500Z
DTSTAMP:20260424T233700Z
UID:indico-event-494@indico.tpi.uni-jena.de
DESCRIPTION:Speakers: Yong-Zhong Qian\, University of Minnesota\n\nhttps:/
 /indico.tpi.uni-jena.de/event/494/
LOCATION:Abbeanum/1-HS2 - Straubel-HS (TPI\, FSU Jena)
URL:https://indico.tpi.uni-jena.de/event/494/
END:VEVENT
END:VCALENDAR
